BEGIN:VCALENDAR
VERSION:2.0
PRODID:-//Mala de Herança - ECPv6.5.1.5//NONSGML v1.0//EN
CALSCALE:GREGORIAN
METHOD:PUBLISH
X-WR-CALNAME:Mala de Herança
X-ORIGINAL-URL:https://maladeheranca.com/
X-WR-CALDESC:Eventos para Mala de Herança
REFRESH-INTERVAL;VALUE=DURATION:PT1H
X-Robots-Tag:noindex
X-PUBLISHED-TTL:PT1H
BEGIN:VTIMEZONE
TZID:America/Sao_Paulo
BEGIN:STANDARD
TZOFFSETFROM:-0300
TZOFFSETTO:-0300
TZNAME:-03
DTSTART:20220101T000000
END:STANDARD
END:VTIMEZONE
BEGIN:VEVENT
DTSTART;VALUE=DATE:20220126
DTEND;VALUE=DATE:20220129
DTSTAMP:20260426T040521
CREATED:20220114T095237Z
LAST-MODIFIED:20220114T095314Z
UID:1977-1643155200-1643414399@maladeheranca.com
SUMMARY:2º Semana Pedagógica A Taba na Escola
DESCRIPTION:De 26 a 28 (19:30) de janeiro de 2022\, A Taba promove a 2ª Semana Pedagógica A Taba na Escola: uma série de encontros para educadores\, com foco no trabalho com a literatura na sala de aula. \nCada dia\, um tema diferente será debatido por profissionais da área\, discutindo a importância da organização de um currículo literário como eixo central do trabalho educativo na escola\, a potência da mediação de leitura e as práticas de leitura nas plataformas digitais.
URL:https://maladeheranca.com/evento/2o-semana-pedagogica-a-taba-na-escola/
LOCATION:NRW
ORGANIZER;CN="A Taba":MAILTO:https://ataba.zendesk.com/hc/pt-br/requests/new
END:VEVENT
END:VCALENDAR