BEGIN:VCALENDAR
VERSION:2.0
PRODID:-//Mala de Herança - ECPv6.5.1.5//NONSGML v1.0//EN
CALSCALE:GREGORIAN
METHOD:PUBLISH
X-ORIGINAL-URL:https://maladeheranca.com/
X-WR-CALDESC:Eventos para Mala de Herança
REFRESH-INTERVAL;VALUE=DURATION:PT1H
X-Robots-Tag:noindex
X-PUBLISHED-TTL:PT1H
BEGIN:VTIMEZONE
TZID:Europe/Berlin
BEGIN:DAYLIGHT
TZOFFSETFROM:+0100
TZOFFSETTO:+0200
TZNAME:CEST
DTSTART:20220327T010000
END:DAYLIGHT
BEGIN:STANDARD
TZOFFSETFROM:+0200
TZOFFSETTO:+0100
TZNAME:CET
DTSTART:20221030T010000
END:STANDARD
TZID:Europe/Istanbul
BEGIN:STANDARD
TZOFFSETFROM:+0300
TZOFFSETTO:+0300
TZNAME:+03
DTSTART:20220101T000000
END:STANDARD
END:VTIMEZONE
BEGIN:VEVENT
DTSTART;TZID=Europe/Berlin:20220929T183000
DTEND;TZID=Europe/Berlin:20220929T200000
DTSTAMP:20260425T151336
CREATED:20220914T213155Z
LAST-MODIFIED:20220914T213257Z
UID:2486-1664476200-1664481600@maladeheranca.com
SUMMARY:Oficina "Pesquisas estranhas para rir e pensar: a QUÍMICA por trás de tudo"
DESCRIPTION:
URL:https://maladeheranca.com/evento/oficina-pesquisas-estranhas-para-rir-e-pensar-a-quimica-por-tras-de-tudo/
LOCATION:NRW
ORGANIZER;CN="Mala de Heran%C3%A7a":MAILTO:contato@maladeheranca.com
END:VEVENT
BEGIN:VEVENT
DTSTART;TZID=Europe/Berlin:20221022T090000
DTEND;TZID=Europe/Berlin:20221022T130000
DTSTAMP:20260425T151336
CREATED:20221017T130905Z
LAST-MODIFIED:20221017T130905Z
UID:2527-1666429200-1666443600@maladeheranca.com
SUMMARY:Cultura e Ciência em Português para Crianças e Jovens a Viver na Alemanha
DESCRIPTION:No próximo sábado dia 22/10/2022 a Mala de Herança estará participando do programa de “Cultura e ciência para crianças e jovens na Alemanha em português” organizado pela ASPPA United Dusseldórfia\, juntamente com outros profissionais lusófonos atuantes na Alemanha. Quem tiver interesse pode participar deste convite ao diálogo e a troca de experiências\, se inscrevendo pelo link abaixo: \nhttps://www.eventbrite.pt/e/bilhetes-cultura-e-ciencia-em-portugues-para-criancas-e-jovens-a-viver-na-alemanha-430370097547
URL:https://maladeheranca.com/evento/cultura-e-ciencia-em-portugues-para-criancas-e-jovens-a-viver-na-alemanha/
LOCATION:3KOMMA1\, Schinkelstraße 43\, Düsseldorf\, NRW\, 40211\, Alemanha
END:VEVENT
BEGIN:VEVENT
DTSTART;TZID=Europe/Istanbul:20221029T110000
DTEND;TZID=Europe/Istanbul:20221029T130000
DTSTAMP:20260425T151336
CREATED:20221014T104000Z
LAST-MODIFIED:20240524T164722Z
UID:2517-1667041200-1667048400@maladeheranca.com
SUMMARY:Kadıköy/İstanbul Um encontro no parque para celebrar o mês da criança!
DESCRIPTION:Animados pra brincadeira?\n\n\n\nDia 29 de outubro teremos um encontro no parque para celebrar o mês da criança!\n\nTeremos contação de histórias\, empréstimo / troca de livros e brincadeiras.\n\nE temos muita novidade no acervo da Mala viu? Acompanhe nosso feed para conhecer os novos títulos que chegaram\, quentinhos e fresquinhos vindo direto do Brasil!\n\nEsperamos por vocês para celebrar o mês das crianças com brincadeiras tradicionais e a confecção de um brinquedo.\n\nFaça sua inscrição no link\n\nNos vemos em breve\, VIVA!\n\nEndereço: Osmanağa\, Yoğurtçu Parkı\, 34714 Kadıköy/İstanbul (ao lado do café)\nHorário: de 11:00 as 13:00hrs
URL:https://maladeheranca.com/evento/kadikoy-istanbul-um-encontro-no-parque-para-celebrar-o-mes-da-crianca/
LOCATION:Yoğurtçu Parkı\, Kadıköy\, Osmanağa 34714 Kadıköy\, Istambul\, Turquia
ORGANIZER;CN="Mala de Heran%C3%A7a":MAILTO:contato@maladeheranca.com
END:VEVENT
END:VCALENDAR