BEGIN:VCALENDAR
VERSION:2.0
PRODID:-//Mala de Herança - ECPv6.5.1.5//NONSGML v1.0//EN
CALSCALE:GREGORIAN
METHOD:PUBLISH
X-ORIGINAL-URL:https://maladeheranca.com/
X-WR-CALDESC:Eventos para Mala de Herança
REFRESH-INTERVAL;VALUE=DURATION:PT1H
X-Robots-Tag:noindex
X-PUBLISHED-TTL:PT1H
BEGIN:VTIMEZONE
TZID:Europe/Istanbul
BEGIN:STANDARD
TZOFFSETFROM:+0300
TZOFFSETTO:+0300
TZNAME:+03
DTSTART:20220101T000000
END:STANDARD
END:VTIMEZONE
BEGIN:VEVENT
DTSTART;TZID=Europe/Istanbul:20221029T110000
DTEND;TZID=Europe/Istanbul:20221029T130000
DTSTAMP:20260425T133220
CREATED:20221014T104000Z
LAST-MODIFIED:20240524T164722Z
UID:2517-1667041200-1667048400@maladeheranca.com
SUMMARY:Kadıköy/İstanbul Um encontro no parque para celebrar o mês da criança!
DESCRIPTION:Animados pra brincadeira?\n\n\n\nDia 29 de outubro teremos um encontro no parque para celebrar o mês da criança!\n\nTeremos contação de histórias\, empréstimo / troca de livros e brincadeiras.\n\nE temos muita novidade no acervo da Mala viu? Acompanhe nosso feed para conhecer os novos títulos que chegaram\, quentinhos e fresquinhos vindo direto do Brasil!\n\nEsperamos por vocês para celebrar o mês das crianças com brincadeiras tradicionais e a confecção de um brinquedo.\n\nFaça sua inscrição no link\n\nNos vemos em breve\, VIVA!\n\nEndereço: Osmanağa\, Yoğurtçu Parkı\, 34714 Kadıköy/İstanbul (ao lado do café)\nHorário: de 11:00 as 13:00hrs
URL:https://maladeheranca.com/evento/kadikoy-istanbul-um-encontro-no-parque-para-celebrar-o-mes-da-crianca/
LOCATION:Yoğurtçu Parkı\, Kadıköy\, Osmanağa 34714 Kadıköy\, Istambul\, Turquia
ORGANIZER;CN="Mala de Heran%C3%A7a":MAILTO:contato@maladeheranca.com
END:VEVENT
END:VCALENDAR