BEGIN:VCALENDAR
VERSION:2.0
PRODID:-//Mala de Herança - ECPv6.5.1.5//NONSGML v1.0//EN
CALSCALE:GREGORIAN
METHOD:PUBLISH
X-ORIGINAL-URL:https://maladeheranca.com/
X-WR-CALDESC:Eventos para Mala de Herança
REFRESH-INTERVAL;VALUE=DURATION:PT1H
X-Robots-Tag:noindex
X-PUBLISHED-TTL:PT1H
BEGIN:VTIMEZONE
TZID:Europe/London
BEGIN:DAYLIGHT
TZOFFSETFROM:+0000
TZOFFSETTO:+0100
TZNAME:BST
DTSTART:20210328T010000
END:DAYLIGHT
BEGIN:STANDARD
TZOFFSETFROM:+0100
TZOFFSETTO:+0000
TZNAME:GMT
DTSTART:20211031T010000
END:STANDARD
TZID:Europe/Berlin
BEGIN:DAYLIGHT
TZOFFSETFROM:+0100
TZOFFSETTO:+0200
TZNAME:CEST
DTSTART:20210328T010000
END:DAYLIGHT
BEGIN:STANDARD
TZOFFSETFROM:+0200
TZOFFSETTO:+0100
TZNAME:CET
DTSTART:20211031T010000
END:STANDARD
END:VTIMEZONE
BEGIN:VEVENT
DTSTART;TZID=Europe/London:20211106T140000
DTEND;TZID=Europe/London:20211106T170000
DTSTAMP:20260426T054937
CREATED:20211027T115013Z
LAST-MODIFIED:20211027T115222Z
UID:1939-1636207200-1636218000@maladeheranca.com
SUMMARY:2º Encontro da Mala de Herança Canterbury
DESCRIPTION:           \n         
URL:https://maladeheranca.com/evento/2o-encontro-da-mala-de-heranca-canterbury/
LOCATION:St Georges Place\, Saint George's Place\, Canterbury\, Reino unido
END:VEVENT
BEGIN:VEVENT
DTSTART;TZID=Europe/Berlin:20211107T160000
DTEND;TZID=Europe/Berlin:20211107T170000
DTSTAMP:20260426T054937
CREATED:20210921T174924Z
LAST-MODIFIED:20210921T174924Z
UID:1770-1636300800-1636304400@maladeheranca.com
SUMMARY:Oficina Multilíngue para pais
DESCRIPTION:
URL:https://maladeheranca.com/evento/oficina-multilingue-para-pais/
LOCATION:Zoom
ORGANIZER;CN="Mala de Heran%C3%A7a":MAILTO:contato@maladeheranca.com
END:VEVENT
BEGIN:VEVENT
DTSTART;TZID=Europe/Berlin:20211128T160000
DTEND;TZID=Europe/Berlin:20211128T170000
DTSTAMP:20260426T054937
CREATED:20211121T144159Z
LAST-MODIFIED:20211121T145937Z
UID:1951-1638115200-1638118800@maladeheranca.com
SUMMARY:1º Aniversário da Mala de Herança Leipzig
DESCRIPTION:  \n \nQueridas famílias e amigos da Mala de Herança Leipzig\, \nEm novembro\, a Mala de Herança em Leipzig está de aniversário! Venham conosco comemorar essa data tão importante! 🎁 \nPor conta das novas regras vigentes\, voltamos ao ambiente virtual\, mas com a mesma alegria e satisfação! Teremos a leitura de três livros escolhidos pelas crianças\, assim como músicas e uma brincadeira também citadas como entras as suas favoritas. \nO evento é gratuito! Venha logo fazer a sua inscrição!  \nEsperamos por você! 😉 \nInscrições no link: https://bit.ly/1-Aniversario-MHL \nGrande abraço\, \nEquipe Mala de Herança em Leipzig
URL:https://maladeheranca.com/evento/1o-aniversario-da-mala-de-heranca-leipzig/
LOCATION:Zoom
END:VEVENT
END:VCALENDAR