BEGIN:VCALENDAR
VERSION:2.0
PRODID:-//Mala de Herança - ECPv6.5.1.5//NONSGML v1.0//EN
CALSCALE:GREGORIAN
METHOD:PUBLISH
X-WR-CALNAME:Mala de Herança
X-ORIGINAL-URL:https://maladeheranca.com/
X-WR-CALDESC:Eventos para Mala de Herança
REFRESH-INTERVAL;VALUE=DURATION:PT1H
X-Robots-Tag:noindex
X-PUBLISHED-TTL:PT1H
BEGIN:VTIMEZONE
TZID:Europe/Berlin
BEGIN:DAYLIGHT
TZOFFSETFROM:+0100
TZOFFSETTO:+0200
TZNAME:CEST
DTSTART:20220327T010000
END:DAYLIGHT
BEGIN:STANDARD
TZOFFSETFROM:+0200
TZOFFSETTO:+0100
TZNAME:CET
DTSTART:20221030T010000
END:STANDARD
END:VTIMEZONE
BEGIN:VEVENT
DTSTART;TZID=Europe/Berlin:20220409T100000
DTEND;TZID=Europe/Berlin:20220409T110000
DTSTAMP:20260425T171237
CREATED:20220407T103402Z
LAST-MODIFIED:20240524T165349Z
UID:2030-1649498400-1649502000@maladeheranca.com
SUMMARY:Encontro da nossa TiNi - Herança na Terra das Crianças
DESCRIPTION:Com as crianças e famílias da Malinha de Herança começamos a cultivar uma TiNi aqui em Munique.\n\n“TiNi é um espaço de terra onde a gente cria Natureza e é criada por ela”. “é uma metodologia de educação para a sustentabilidade e tem uma abordagem afetiva\, lúdica\, intercultural\, holística e interdisciplinar”. (Instituto ALANA e Gisele Bündchen)\n\nAs crianças já plantaram algumas sementes de legumes\, verduras e flores e começaram a cuidar delas com água e carinho.\n\nE as sementes que levaram para casa para cuidar delas de pertinho já estão brotando!\n\n \n\nEstamos muito felizes em poder proporcionar esta vivência para as crianças… e tudo em português!\n\nUma parceria da Mala de Herança com o grupo jardim do “Nachbarschaftstreff Ramersdorf-Süd”.\n\nEncontros quinzenais.\n\n \n\nInscrições para o dia 09.04.2022: Encontros “Herança na Terra das Crianças” 09/04/2022 (google.com)
URL:https://maladeheranca.com/evento/encontro-da-nossa-tini-heranca-na-terra-das-criancas/
LOCATION:Nachbarschaftstreff Ramersdorf-Süd\, Balanstrasse 111\, Munique\, Baviera\, 81549\, Alemanha
ORGANIZER;CN="Mala de Heran%C3%A7a":MAILTO:contato@maladeheranca.com
END:VEVENT
END:VCALENDAR